BEGIN:VCALENDAR
VERSION:2.0
PRODID:-//Palette and Pub - ECPv6.15.20//NONSGML v1.0//EN
CALSCALE:GREGORIAN
METHOD:PUBLISH
X-WR-CALNAME:Palette and Pub
X-ORIGINAL-URL:https://paletteandpub.com
X-WR-CALDESC:Events for Palette and Pub
REFRESH-INTERVAL;VALUE=DURATION:PT1H
X-Robots-Tag:noindex
X-PUBLISHED-TTL:PT1H
BEGIN:VTIMEZONE
TZID:America/Chicago
BEGIN:DAYLIGHT
TZOFFSETFROM:-0600
TZOFFSETTO:-0500
TZNAME:CDT
DTSTART:20250309T080000
END:DAYLIGHT
BEGIN:STANDARD
TZOFFSETFROM:-0500
TZOFFSETTO:-0600
TZNAME:CST
DTSTART:20251102T070000
END:STANDARD
BEGIN:DAYLIGHT
TZOFFSETFROM:-0600
TZOFFSETTO:-0500
TZNAME:CDT
DTSTART:20260308T080000
END:DAYLIGHT
BEGIN:STANDARD
TZOFFSETFROM:-0500
TZOFFSETTO:-0600
TZNAME:CST
DTSTART:20261101T070000
END:STANDARD
BEGIN:DAYLIGHT
TZOFFSETFROM:-0600
TZOFFSETTO:-0500
TZNAME:CDT
DTSTART:20270314T080000
END:DAYLIGHT
BEGIN:STANDARD
TZOFFSETFROM:-0500
TZOFFSETTO:-0600
TZNAME:CST
DTSTART:20271107T070000
END:STANDARD
END:VTIMEZONE
BEGIN:VEVENT
DTSTART;TZID=America/Chicago:20260304T180000
DTEND;TZID=America/Chicago:20260304T203000
DTSTAMP:20260423T104913
CREATED:20260209T183736Z
LAST-MODIFIED:20260209T183736Z
UID:9474-1772647200-1772656200@paletteandpub.com
SUMMARY:Purple Shamrock Painting @ BUZZ SOCIAL
DESCRIPTION:Book Seats\n**PLEASE TAKE NOTE OF LOCATION AS THEY VARY BY EVENT** \nYou are registering for one seat for the Purple Shamrock Painting on March 4th @ 6 pm at Buzz Social. To be courteous to the venue\, we encourage you to purchase additional food and drink from them. \nAddress: 2310 Lineville Rd\, Green Bay\, WI 54313 \nPlease tell us if you’re seated with anyone else. \nThe cancellation policy WILL be strictly enforced. Please view this just as you would if you pre-purchased a seat to a movie or concert. That seat is reserved for you. \nFAQ’s
URL:https://paletteandpub.com/event/purple-shamrock-painting-buzz-social/
LOCATION:Buzz Social\, 2310 Lineville Rd\, Green Bay\, WI\, 54313
ATTACH;FMTTYPE=image/jpeg:https://paletteandpub.com/wp-content/uploads/2026/02/purple-shamrock-banner-buzz.jpg
ORGANIZER;CN="Palette and Pub":MAILTO:paletteandpub@gmail.com
END:VEVENT
BEGIN:VEVENT
DTSTART;TZID=America/Chicago:20260306T180000
DTEND;TZID=America/Chicago:20260306T203000
DTSTAMP:20260423T104913
CREATED:20260209T184732Z
LAST-MODIFIED:20260209T184732Z
UID:9480-1772820000-1772829000@paletteandpub.com
SUMMARY:Moon River Painting
DESCRIPTION:Book Seats\n**PLEASE TAKE NOTE OF LOCATION AS THEY VARY BY EVENT** \nYou are registering for one seat for the Moon River Painting on March 6th @ 6 pm. To be courteous to the venue that our studio space is attached to\, Olive’s Pizza and Sandwiches\, we encourage you to purchase additional food and drink from them. \nPlease tell us if you’re seated with anyone else. \nThe cancellation policy WILL be strictly enforced. Please view this just as you would if you pre-purchased a seat to a movie or concert. That seat is reserved for you. \nFAQ’s
URL:https://paletteandpub.com/event/moon-river-painting-3/
LOCATION:Palette and Pub\, 516 Greene Ave\, Allouez\, WI\, 54301\, United States
ATTACH;FMTTYPE=image/jpeg:https://paletteandpub.com/wp-content/uploads/2026/02/Untitled-design.jpg
ORGANIZER;CN="Palette and Pub":MAILTO:paletteandpub@gmail.com
END:VEVENT
BEGIN:VEVENT
DTSTART;TZID=America/Chicago:20260307T130000
DTEND;TZID=America/Chicago:20260307T153000
DTSTAMP:20260423T104913
CREATED:20260209T185304Z
LAST-MODIFIED:20260209T185304Z
UID:9483-1772888400-1772897400@paletteandpub.com
SUMMARY:Lingering in the Lilacs Painting
DESCRIPTION:Book Seats\n**PLEASE TAKE NOTE OF LOCATION AS THEY VARY BY EVENT** \nYou are registering for one seat for the Lingering in the Lilacs Painting on March 7th @ 1 pm. To be courteous to the venue that our studio space is attached to\, Olive’s Pizza and Sandwiches\, we encourage you to purchase additional food and drink from them. \nPlease tell us if you’re seated with anyone else. \nThe cancellation policy WILL be strictly enforced. Please view this just as you would if you pre-purchased a seat to a movie or concert. That seat is reserved for you. \nFAQ’s
URL:https://paletteandpub.com/event/lingering-in-the-lilacs-painting/
LOCATION:Palette and Pub\, 516 Greene Ave\, Allouez\, WI\, 54301\, United States
ATTACH;FMTTYPE=image/jpeg:https://paletteandpub.com/wp-content/uploads/2026/02/lingering-in-the-lilacs-banner-studio.jpg
ORGANIZER;CN="Palette and Pub":MAILTO:paletteandpub@gmail.com
END:VEVENT
BEGIN:VEVENT
DTSTART;TZID=America/Chicago:20260311T180000
DTEND;TZID=America/Chicago:20260311T203000
DTSTAMP:20260423T104913
CREATED:20260209T184306Z
LAST-MODIFIED:20260209T184306Z
UID:9477-1773252000-1773261000@paletteandpub.com
SUMMARY:Sunset Lake Painting @ BUZZ SOCIAL
DESCRIPTION:Book Seats\n**PLEASE TAKE NOTE OF LOCATION AS THEY VARY BY EVENT** \nYou are registering for one seat for the Sunset Lake Painting on March 11th @ 6 pm at Buzz Social. To be courteous to the venue\, we encourage you to purchase additional food and drink from them. \nAddress: 2310 Lineville Rd\, Green Bay\, WI 54313 \nPlease tell us if you’re seated with anyone else. \nThe cancellation policy WILL be strictly enforced. Please view this just as you would if you pre-purchased a seat to a movie or concert. That seat is reserved for you. \nFAQ’s
URL:https://paletteandpub.com/event/sunset-lake-painting-buzz-social/
LOCATION:Buzz Social\, 2310 Lineville Rd\, Green Bay\, WI\, 54313
ATTACH;FMTTYPE=image/jpeg:https://paletteandpub.com/wp-content/uploads/2026/02/sunset-lake-banner-buzz.jpg
ORGANIZER;CN="Palette and Pub":MAILTO:paletteandpub@gmail.com
END:VEVENT
BEGIN:VEVENT
DTSTART;TZID=America/Chicago:20260313T180000
DTEND;TZID=America/Chicago:20260313T203000
DTSTAMP:20260423T104913
CREATED:20260209T190142Z
LAST-MODIFIED:20260209T190142Z
UID:9486-1773424800-1773433800@paletteandpub.com
SUMMARY:Enchanted Forest "Bling Painting"
DESCRIPTION:Book Seats\n**PLEASE TAKE NOTE OF LOCATION AS THEY VARY BY EVENT** \nYou are registering for one seat for the Enchanted Forest “Bling Painting” on March 13th @ 6 pm. This painting features rhinestones for adding a little extra “bling” to your work of art. \nTo be courteous to the venue that our studio space is attached to\, Olive’s Pizza and Sandwiches\, we encourage you to purchase additional food and drink from them. \nPlease tell us if you’re seated with anyone else. \nThe cancellation policy WILL be strictly enforced. Please view this just as you would if you pre-purchased a seat to a movie or concert. That seat is reserved for you. \nFAQ’s
URL:https://paletteandpub.com/event/enchanted-forest-bling-painting/
LOCATION:Palette and Pub\, 516 Greene Ave\, Allouez\, WI\, 54301\, United States
ATTACH;FMTTYPE=image/jpeg:https://paletteandpub.com/wp-content/uploads/2026/01/enchanted-forest-banner-studio-scaled.jpg
ORGANIZER;CN="Palette and Pub":MAILTO:paletteandpub@gmail.com
END:VEVENT
BEGIN:VEVENT
DTSTART;TZID=America/Chicago:20260314T130000
DTEND;TZID=America/Chicago:20260314T153000
DTSTAMP:20260423T104913
CREATED:20260223T182725Z
LAST-MODIFIED:20260223T182725Z
UID:9489-1773493200-1773502200@paletteandpub.com
SUMMARY:First Signs of Spring Painting
DESCRIPTION:Book Seats\n**PLEASE TAKE NOTE OF LOCATION AS THEY VARY BY EVENT** \nYou are registering for one seat for the First Signs of Spring Painting on March 14th @ 1 pm. To be courteous to the venue that our studio space is attached to\, Olive’s Pizza and Sandwiches\, we encourage you to purchase additional food and drink from them. \nPlease tell us if you’re seated with anyone else. \nThe cancellation policy WILL be strictly enforced. Please view this just as you would if you pre-purchased a seat to a movie or concert. That seat is reserved for you. \nFAQ’s
URL:https://paletteandpub.com/event/first-signs-of-spring-painting/
LOCATION:Palette and Pub\, 516 Greene Ave\, Allouez\, WI\, 54301\, United States
ATTACH;FMTTYPE=image/jpeg:https://paletteandpub.com/wp-content/uploads/2026/02/first-signs-of-spring-banner-studio.jpg
ORGANIZER;CN="Palette and Pub":MAILTO:paletteandpub@gmail.com
END:VEVENT
BEGIN:VEVENT
DTSTART;TZID=America/Chicago:20260318T180000
DTEND;TZID=America/Chicago:20260318T203000
DTSTAMP:20260423T104913
CREATED:20260224T013956Z
LAST-MODIFIED:20260224T013956Z
UID:9502-1773856800-1773865800@paletteandpub.com
SUMMARY:Highlander Heartthrob Painting @ BUZZ SOCIAL
DESCRIPTION:Book Seats\n**PLEASE TAKE NOTE OF LOCATION AS THEY VARY BY EVENT** \nYou are registering for one seat for the Sunset Lake Painting on March 18th @ 6 pm at Buzz Social. To be courteous to the venue\, we encourage you to purchase additional food and drink from them. \nAddress: 2310 Lineville Rd\, Green Bay\, WI 54313 \nPlease tell us if you’re seated with anyone else. \nThe cancellation policy WILL be strictly enforced. Please view this just as you would if you pre-purchased a seat to a movie or concert. That seat is reserved for you. \nFAQ’s
URL:https://paletteandpub.com/event/highlander-heartthrob-painting-buzz-social/
LOCATION:Buzz Social\, 2310 Lineville Rd\, Green Bay\, WI\, 54313
ATTACH;FMTTYPE=image/jpeg:https://paletteandpub.com/wp-content/uploads/2026/02/Untitled-design-2-scaled.jpg
ORGANIZER;CN="Palette and Pub":MAILTO:paletteandpub@gmail.com
END:VEVENT
BEGIN:VEVENT
DTSTART;TZID=America/Chicago:20260320T180000
DTEND;TZID=America/Chicago:20260320T203000
DTSTAMP:20260423T104913
CREATED:20260223T185447Z
LAST-MODIFIED:20260223T185447Z
UID:9492-1774029600-1774038600@paletteandpub.com
SUMMARY:Flower Shower Painting
DESCRIPTION:Book Seats\n**PLEASE TAKE NOTE OF LOCATION AS THEY VARY BY EVENT** \nYou are registering for one seat for the Flower Shower Painting on March 20th @ 6 pm. To be courteous to the venue that our studio space is attached to\, Olive’s Pizza and Sandwiches\, we encourage you to purchase additional food and drink from them. \nPlease tell us if you’re seated with anyone else. \nThe cancellation policy WILL be strictly enforced. Please view this just as you would if you pre-purchased a seat to a movie or concert. That seat is reserved for you. \nFAQ’s
URL:https://paletteandpub.com/event/flower-shower-painting/
LOCATION:Palette and Pub\, 516 Greene Ave\, Allouez\, WI\, 54301\, United States
ATTACH;FMTTYPE=image/jpeg:https://paletteandpub.com/wp-content/uploads/2026/02/flower-shower-banner-studio.jpg
ORGANIZER;CN="Palette and Pub":MAILTO:paletteandpub@gmail.com
END:VEVENT
BEGIN:VEVENT
DTSTART;TZID=America/Chicago:20260321T130000
DTEND;TZID=America/Chicago:20260321T153000
DTSTAMP:20260423T104913
CREATED:20260223T192652Z
LAST-MODIFIED:20260223T192658Z
UID:9495-1774098000-1774107000@paletteandpub.com
SUMMARY:Sun-kissed Whiskers Painting
DESCRIPTION:Book Seats\n**PLEASE TAKE NOTE OF LOCATION AS THEY VARY BY EVENT** \nYou are registering for one seat for the Sun-kissed Whiskers Painting on March 21st @ 1 pm. To be courteous to the venue that our studio space is attached to\, Olive’s Pizza and Sandwiches\, we encourage you to purchase additional food and drink from them. \nPlease tell us if you’re seated with anyone else. \nThe cancellation policy WILL be strictly enforced. Please view this just as you would if you pre-purchased a seat to a movie or concert. That seat is reserved for you. \nFAQ’s
URL:https://paletteandpub.com/event/sun-kissed-whiskers-painting/
LOCATION:Palette and Pub\, 516 Greene Ave\, Allouez\, WI\, 54301\, United States
ATTACH;FMTTYPE=image/jpeg:https://paletteandpub.com/wp-content/uploads/2026/02/sun-kissed-whiskers-banner-studio.jpg
ORGANIZER;CN="Palette and Pub":MAILTO:paletteandpub@gmail.com
END:VEVENT
BEGIN:VEVENT
DTSTART;TZID=America/Chicago:20260325T180000
DTEND;TZID=America/Chicago:20260325T203000
DTSTAMP:20260423T104913
CREATED:20260224T020138Z
LAST-MODIFIED:20260308T031126Z
UID:9510-1774461600-1774470600@paletteandpub.com
SUMMARY:Forest Falls Painting @ BUZZ SOCIAL
DESCRIPTION:Book Seats\n**PLEASE TAKE NOTE OF LOCATION AS THEY VARY BY EVENT** \nYou are registering for one seat for the Forest Falls Painting on March 25th @ 6 pm at Buzz Social. To be courteous to the venue\, we encourage you to purchase additional food and drink from them. \nAddress: 2310 Lineville Rd\, Green Bay\, WI 54313 \nPlease tell us if you’re seated with anyone else. \nThe cancellation policy WILL be strictly enforced. Please view this just as you would if you pre-purchased a seat to a movie or concert. That seat is reserved for you. \nFAQ’s
URL:https://paletteandpub.com/event/fields-and-farms-painting-buzz-social/
LOCATION:Buzz Social\, 2310 Lineville Rd\, Green Bay\, WI\, 54313
ATTACH;FMTTYPE=image/jpeg:https://paletteandpub.com/wp-content/uploads/2026/02/Untitled-design-3-scaled.jpg
ORGANIZER;CN="Palette and Pub":MAILTO:paletteandpub@gmail.com
END:VEVENT
BEGIN:VEVENT
DTSTART;TZID=America/Chicago:20260327T180000
DTEND;TZID=America/Chicago:20260327T203000
DTSTAMP:20260423T104913
CREATED:20260224T015655Z
LAST-MODIFIED:20260318T230912Z
UID:9508-1774634400-1774643400@paletteandpub.com
SUMMARY:Early Risers Painting
DESCRIPTION:Book Seats\n**PLEASE TAKE NOTE OF LOCATION AS THEY VARY BY EVENT** \nYou are registering for one seat for the Early Risers Painting on March 27th @ 6 pm.To be courteous to the venue that our studio space is attached to\, Olive’s Pizza and Sandwiches\, we encourage you to purchase additional food and drink from them. \nPlease tell us if you’re seated with anyone else. \nThe cancellation policy WILL be strictly enforced. Please view this just as you would if you pre-purchased a seat to a movie or concert. That seat is reserved for you. \nFAQ’s \n 
URL:https://paletteandpub.com/event/midsummers-night-dream-bling-painting/
LOCATION:Palette and Pub\, 516 Greene Ave\, Allouez\, WI\, 54301\, United States
ATTACH;FMTTYPE=image/jpeg:https://paletteandpub.com/wp-content/uploads/2026/02/Early-risers-banner-studio.jpg
ORGANIZER;CN="Palette and Pub":MAILTO:paletteandpub@gmail.com
END:VEVENT
BEGIN:VEVENT
DTSTART;TZID=America/Chicago:20260328T130000
DTEND;TZID=America/Chicago:20260328T153000
DTSTAMP:20260423T104913
CREATED:20260223T193209Z
LAST-MODIFIED:20260223T193209Z
UID:9498-1774702800-1774711800@paletteandpub.com
SUMMARY:Look Who's in the Lavender Painting
DESCRIPTION:Book Seats\n**PLEASE TAKE NOTE OF LOCATION AS THEY VARY BY EVENT** \nYou are registering for one seat for the Look Who’s in the Lavender Painting on March 28th @ 1 pm. To be courteous to the venue that our studio space is attached to\, Olive’s Pizza and Sandwiches\, we encourage you to purchase additional food and drink from them. \nPlease tell us if you’re seated with anyone else. \nThe cancellation policy WILL be strictly enforced. Please view this just as you would if you pre-purchased a seat to a movie or concert. That seat is reserved for you. \nFAQ’s
URL:https://paletteandpub.com/event/look-whos-in-the-lavender-painting/
LOCATION:Palette and Pub\, 516 Greene Ave\, Allouez\, WI\, 54301\, United States
ATTACH;FMTTYPE=image/jpeg:https://paletteandpub.com/wp-content/uploads/2026/02/look-whos-in-the-lavender-banner-studio.jpg
ORGANIZER;CN="Palette and Pub":MAILTO:paletteandpub@gmail.com
END:VEVENT
END:VCALENDAR